BEGIN:VCALENDAR
VERSION:2.0
PRODID:-//Sports Facilities Conference - ECPv6.15.20//NONSGML v1.0//EN
CALSCALE:GREGORIAN
METHOD:PUBLISH
X-WR-CALNAME:Sports Facilities Conference
X-ORIGINAL-URL:https://sportsfacilitiesconference.com
X-WR-CALDESC:Events for Sports Facilities Conference
REFRESH-INTERVAL;VALUE=DURATION:PT1H
X-Robots-Tag:noindex
X-PUBLISHED-TTL:PT1H
BEGIN:VTIMEZONE
TZID:America/New_York
BEGIN:DAYLIGHT
TZOFFSETFROM:-0500
TZOFFSETTO:-0400
TZNAME:EDT
DTSTART:20240310T070000
END:DAYLIGHT
BEGIN:STANDARD
TZOFFSETFROM:-0400
TZOFFSETTO:-0500
TZNAME:EST
DTSTART:20241103T060000
END:STANDARD
BEGIN:DAYLIGHT
TZOFFSETFROM:-0500
TZOFFSETTO:-0400
TZNAME:EDT
DTSTART:20250309T070000
END:DAYLIGHT
BEGIN:STANDARD
TZOFFSETFROM:-0400
TZOFFSETTO:-0500
TZNAME:EST
DTSTART:20251102T060000
END:STANDARD
BEGIN:DAYLIGHT
TZOFFSETFROM:-0500
TZOFFSETTO:-0400
TZNAME:EDT
DTSTART:20260308T070000
END:DAYLIGHT
BEGIN:STANDARD
TZOFFSETFROM:-0400
TZOFFSETTO:-0500
TZNAME:EST
DTSTART:20261101T060000
END:STANDARD
END:VTIMEZONE
BEGIN:VEVENT
DTSTART;TZID=America/New_York:20251209T144500
DTEND;TZID=America/New_York:20251209T150500
DTSTAMP:20260420T051510
CREATED:20251106T164225Z
LAST-MODIFIED:20251110T175233Z
UID:2035-1765291500-1765292700@sportsfacilitiesconference.com
SUMMARY:From Part-Time to Prime Time: The Leadership Blueprint
DESCRIPTION:This Playmaker session unpacks how leadership is built\, not born. Through Ryan Ladd’s story—from part-time team member at Cedar Point to General Manager in Virginia Beach—it reveals how intentional design\, mentorship\, and culture turn daily operations into a leadership engine. Attendees will see how clear pathways\, empowered decision-making\, and growth-focused systems can elevate individuals\, strengthen teams\, and ripple impact across entire communities.
URL:https://sportsfacilitiesconference.com/event/from-part-time-to-prime-time-the-leadership-blueprint/
CATEGORIES:December 9, 2025
ATTACH;FMTTYPE=image/jpeg:https://sportsfacilitiesconference.com/wp-content/uploads/2025/11/Headshots-CPSC-Ryan-Ladd.jpg
END:VEVENT
END:VCALENDAR